BEGIN:VCALENDAR
VERSION:2.0
PRODID:-//GAB - ECPv5.8.0//NONSGML v1.0//EN
CALSCALE:GREGORIAN
METHOD:PUBLISH
X-WR-CALNAME:GAB
X-ORIGINAL-URL:https://gab.lu
X-WR-CALDESC:évènements pour GAB
BEGIN:VTIMEZONE
TZID:Europe/Luxembourg
BEGIN:DAYLIGHT
TZOFFSETFROM:+0100
TZOFFSETTO:+0200
TZNAME:CEST
DTSTART:20210328T010000
END:DAYLIGHT
BEGIN:STANDARD
TZOFFSETFROM:+0200
TZOFFSETTO:+0100
TZNAME:CET
DTSTART:20211031T010000
END:STANDARD
END:VTIMEZONE
BEGIN:VEVENT
DTSTART;TZID=Europe/Luxembourg:20210423T110000
DTEND;TZID=Europe/Luxembourg:20210423T150000
DTSTAMP:20210723T103404
CREATED:20210406T142836Z
LAST-MODIFIED:20210407T151135Z
UID:1510-1619175600-1619190000@gab.lu
SUMMARY:Séminaire GAB
DESCRIPTION:Les participants à ce repas\n				Soyez le premier à vous inscrire
URL:https://gab.lu/evenements/seminaire-gab/
LOCATION:An Haffen\, 13 Rue des Trois Cantons\, Mondercange\, 3980\, Luxembourg
ATTACH;FMTTYPE=image/png:https://gab.lu/wp-content/uploads/2021/02/ah_point.png
END:VEVENT
END:VCALENDAR